BEGIN:VCALENDAR
VERSION:2.0
PRODID:-//ChamberMaster//Event Calendar 2.0//EN
METHOD:PUBLISH
X-PUBLISHED-TTL:P3D
REFRESH-INTERVAL:P3D
CALSCALE:GREGORIAN
BEGIN:VEVENT
DTSTART:20120403T230000Z
DTEND:20120404T010000Z
X-MICROSOFT-CDO-ALLDAYEVENT:FALSE
SUMMARY:Denton County Republican Assembly
DESCRIPTION:Denton County Republican Assembly
X-ALT-DESC;FMTTYPE=text/html:Denton County Republican Assembly
LOCATION:Lewisville Chamber of Commerce 551 N. Valley Pkwy. Lewisville Please use side entrance to large conference room.
UID:e.437.1860
SEQUENCE:3
DTSTAMP:20260421T141711Z
URL:https://business.lewisvillechamber.org/events/details/denton-county-republican-assembly-04-03-2012-1860
END:VEVENT

END:VCALENDAR
