BEGIN:VCALENDAR
VERSION:2.0
PRODID:-//ChamberMaster//Event Calendar 2.0//EN
METHOD:PUBLISH
X-PUBLISHED-TTL:P3D
REFRESH-INTERVAL:P3D
CALSCALE:GREGORIAN
BEGIN:VEVENT
DTSTART:20120307T000000Z
DTEND:20120307T020000Z
X-MICROSOFT-CDO-ALLDAYEVENT:FALSE
SUMMARY:Denton County Republican Assembly
DESCRIPTION:Denton County Republican Assembly
X-ALT-DESC;FMTTYPE=text/html:Denton County Republican Assembly
LOCATION:Lewisville Chamber of Commerce 551 N. Valley Parkway Lewisville Please use side entrance to large conference room.
UID:e.437.1859
SEQUENCE:3
DTSTAMP:20260421T171811Z
URL:https://business.lewisvillechamber.org/events/details/denton-county-republican-assembly-03-06-2012-1859
END:VEVENT

END:VCALENDAR
