BEGIN:VCALENDAR
VERSION:2.0
PRODID:-//ChamberMaster//Event Calendar 2.0//EN
METHOD:PUBLISH
X-PUBLISHED-TTL:P3D
REFRESH-INTERVAL:P3D
CALSCALE:GREGORIAN
BEGIN:VEVENT
DTSTART:20230909T000000Z
DTEND:20230909T020000Z
X-MICROSOFT-CDO-ALLDAYEVENT:FALSE
SUMMARY:Dastan-e-Ghazal: An Evening of Ghazals
DESCRIPTION:"Ghazal" is a genre of lyric poem that originated in Arabic form and was later embraced by poets all over the Middle East and South Asia. Join us for an eveing with Dastan-e-Ghazal as they perform popular ghazals from the 19th and 20th Century with live music accompaniment of tabla\, esraj\, harmonium and tanpura. All proceeds from this event will benefit PediPlace.
X-ALT-DESC;FMTTYPE=text/html:&ldquo\;Ghazal&rdquo\; is a genre of lyric poem that originated in Arabic form and was later embraced by poets all over the Middle East and South Asia. Join us for an eveing with Dastan-e-Ghazal as they perform popular ghazals from the 19th and 20th Century with live music accompaniment of tabla\, esraj\, harmonium and tanpura. All proceeds from this event will benefit PediPlace.
LOCATION:Lewisville Grand Theater 100 N. Charles Lewisville\, Texas 75057
UID:e.437.29808
SEQUENCE:3
DTSTAMP:20260424T163142Z
URL:https://business.lewisvillechamber.org/events/details/dastan-e-ghazal-an-evening-of-ghazals-29808
END:VEVENT

END:VCALENDAR
