BEGIN:VCALENDAR
VERSION:2.0
PRODID:-//ChamberMaster//Event Calendar 2.0//EN
METHOD:PUBLISH
X-PUBLISHED-TTL:P3D
REFRESH-INTERVAL:P3D
CALSCALE:GREGORIAN
BEGIN:VEVENT
DTSTART:20101023T150000Z
DTEND:20101023T200000Z
X-MICROSOFT-CDO-ALLDAYEVENT:FALSE
SUMMARY:Community Showcase 2010
DESCRIPTION:Lewisville Area Chamber of Commerce presents the2010 Community Showcasepresented by First Choice Power featuring The Medical Center of Lewisville Health & Safety Fair and The Raising Cane's Taste of LewisvilleSaturday\, October 23\, 2010Lewisville High School Cafeteria  10:00 a.m. - 3:00 p.m. Community Showcase 2010 is an excellent opportunity for you to show off your products or services to thousands of potential customers and other business exhibitors. This one-of-a-kind business showcase will be advertised and open to the public from 10:00 a.m. to 3:00 p.m. on Saturday\, October 23\, 2010. Community Showcase Booth FeesTwo types of booths are being offered to suit your exhibit needs. Each 8' x 8' booth includes a draped back and side walls\, one skirted table with two chairs and one-line business identification booth sign. Booths will be assigned on a first come-first-paid basis.          8' x 8' regular booth $250 (non-member $500)          8' x 8' Signature booth $400 (Priority placement-high traffic areas)       (non-members $700)NO RESERVATIONS WILL BE MADE WITHOUT PAYMENT! Booth PoliciesAs an exhibitor\, your responsibilities will include setting up an attractive display no later than 10:00 a.m. the day of the expo. When you arrive at the unloading area\, unload your equipment\, move your vehicle\, then return to set up your booth. This simple rule should keep delays for everyone to a minimum.  Complete breakdown of your exhibit will be between 3:01pm and 4:00pm on Saturday. A $100 fee will be charged in the event of an early breakdown.  Exhibitors are responsible for all items in their booths during open exhibition hours. You must have a staff representative in your booth at all times during Expo hours. No sharing of booths is allowed. There is a one business limit per booth. Restaurant Exhibitors: \nTaste of Lewisville is sponsored by Raising Cane's Chicken Fingers. There is no charge for Restaurant Booths.  Participants must be a member in good standing with the Lewisville Area Chamber of Commerce.  There are only 15 booths available\, so hurry and reserve your spot.  This is a great opportunity to showcase menu items - bite sized!  The exhibitor is required to have samples available during the showcase times\, 10:00 a.m. to 3:00 p.m.  Each exhibitor must also comply with the Lewisville Health Department regulations\, which will be provided for you.
X-ALT-DESC;FMTTYPE=text/html:<div><p class="MsoNormal" align="center" style="text-align: center\; line-height: normal\; margin: 0in 0in 10pt\; mso-margin-top-alt: auto\; mso-margin-bottom-alt: auto"><strong><span style="font-size: x-small"><span style="display: none\; font-family: &rsquo\;Arial&rsquo\;\,&rsquo\;sans-serif&rsquo\;\; mso-fareast-font-family: &rsquo\;Times New Roman&rsquo\;\; mso-hide: all">&nbsp\;</span><span style="font-size: small"><span style="font-family: &rsquo\;Arial&rsquo\;\,&rsquo\;sans-serif&rsquo\;\; mso-fareast-font-family: &rsquo\;Times New Roman&rsquo\;">Lewisville Area Chamber of Commerce presents the</span></span></span></strong></p><p class="MsoNormal" align="center" style="text-align: center\; line-height: normal\; margin: 0in 0in 10pt\; mso-margin-top-alt: auto\; mso-margin-bottom-alt: auto"><span style="font-size: small"><strong><span style="font-family: &rsquo\;Arial&rsquo\;\,&rsquo\;sans-serif&rsquo\;\; mso-fareast-font-family: &rsquo\;Times New Roman&rsquo\;">2010 Community Showcase</span></strong></span></p><p class="MsoNormal" align="center" style="text-align: center\; line-height: normal\; margin: 0in 0in 10pt\; mso-margin-top-alt: auto\; mso-margin-bottom-alt: auto"><span style="font-size: small"><strong><span style="font-family: &rsquo\;Arial&rsquo\;\,&rsquo\;sans-serif&rsquo\;\; mso-fareast-font-family: &rsquo\;Times New Roman&rsquo\;">presented by First Choice Power </span></strong></span></p><p class="MsoNormal" align="center" style="text-align: center\; line-height: normal\; margin: 0in 0in 10pt\; mso-margin-top-alt: auto\; mso-margin-bottom-alt: auto"><span style="font-size: small"><strong><span style="font-family: &rsquo\;Arial&rsquo\;\,&rsquo\;sans-serif&rsquo\;\; mso-fareast-font-family: &rsquo\;Times New Roman&rsquo\;">featuring </span></strong></span></p><p class="MsoNormal" align="center" style="text-align: center\; line-height: normal\; margin: 0in 0in 10pt\; mso-margin-top-alt: auto\; mso-margin-bottom-alt: auto"><span style="font-size: small"><strong><span style="font-family: &rsquo\;Arial&rsquo\;\,&rsquo\;sans-serif&rsquo\;\; mso-fareast-font-family: &rsquo\;Times New Roman&rsquo\;">The Medical Center of Lewisville Health &amp\; Safety Fair </span></strong></span></p><p class="MsoNormal" align="center" style="text-align: center\; line-height: normal\; margin: 0in 0in 10pt\; mso-margin-top-alt: auto\; mso-margin-bottom-alt: auto"><span style="font-size: small"><strong><span style="font-family: &rsquo\;Arial&rsquo\;\,&rsquo\;sans-serif&rsquo\;\; mso-fareast-font-family: &rsquo\;Times New Roman&rsquo\;">and The Raising Cane&rsquo\;s </span>Taste of Lewisville</strong></span></p><p class="MsoNormal" align="center" style="text-align: center\; line-height: normal\; margin: 0in 0in 10pt\; mso-margin-top-alt: auto\; mso-margin-bottom-alt: auto"><span style="font-size: small"><strong><span><span style="font-family: &rsquo\;Arial&rsquo\;\,&rsquo\;sans-serif&rsquo\;\; mso-fareast-font-family: &rsquo\;Times New Roman&rsquo\;">Saturday\, October 23\, 2010</span></span></strong></span></p><p class="MsoNormal" align="center" style="text-align: center\; line-height: normal\; margin: 0in 0in 10pt\; mso-margin-top-alt: auto\; mso-margin-bottom-alt: auto"><span style="font-size: small"><strong><span style="font-family: &rsquo\;Arial&rsquo\;\,&rsquo\;sans-serif&rsquo\;\; mso-fareast-font-family: &rsquo\;Times New Roman&rsquo\;">Lewisville High School Cafeteria&nbsp\; 10:00 a.m. - 3:00 p.m.</span></strong></span></p><p class="MsoNormal" style="text-align: center\; line-height: normal\; margin: 0in 0in 0pt"><span style="font-size: small">&nbsp\;</span></p><p class="MsoNormal" align="center" style="text-align: center\; line-height: normal\; margin: 0in 0in 0pt"><span style="font-family: &rsquo\;Arial&rsquo\;\,&rsquo\;sans-serif&rsquo\;\; font-size: 12pt\; mso-fareast-font-family: &rsquo\;Times New Roman&rsquo\;"><o:p></o:p></span></p><p class="MsoNormal" style="line-height: normal\; margin: 0in 0in 10pt\; mso-margin-top-alt: auto\; mso-margin-bottom-alt: auto"><strong><span style="font-size: x-small"><span style="font-family: &rsquo\;Arial&rsquo\;\,&rsquo\;sans-serif&rsquo\;\; mso-fareast-font-family: &rsquo\;Times New Roman&rsquo\;">Community Showcase 2010 </span></span></strong><span style="font-size: x-small"><span style="font-family: &rsquo\;Arial&rsquo\;\,&rsquo\;sans-serif&rsquo\;\; mso-fareast-font-family: &rsquo\;Times New Roman&rsquo\;">is an excellent opportunity for you to show off your products or services to thousands of potential customers and other business exhibitors. This one-of-a-kind business showcase will be advertised and open to the public from 10:00 a.m. to 3:00 p.m. on Saturday\, October&nbsp\;23\, 2010.</span></span><span style="font-size: smaller"><span style="font-family: &rsquo\;Arial&rsquo\;\,&rsquo\;sans-serif&rsquo\;\; mso-fareast-font-family: &rsquo\;Times New Roman&rsquo\;"><o:p><span style="font-size: x-small">&nbsp\;</span></o:p></span></span></p><span style="font-size: x-small"><p class="MsoNormal" style="line-height: normal\; margin: 0in 0in 10pt\; mso-margin-top-alt: auto\; mso-margin-bottom-alt: auto"><span style="font-family: &rsquo\;Arial&rsquo\;\,&rsquo\;sans-serif&rsquo\;\; mso-fareast-font-family: &rsquo\;Times New Roman&rsquo\;"><o:p></o:p></span></p><p class="MsoNormal" style="line-height: normal\; margin: 0in 0in 0pt\; mso-layout-grid-align: none"><b style="mso-bidi-font-weight: normal"><u><span style="font-family: &rsquo\;Arial&rsquo\;\,&rsquo\;sans-serif&rsquo\;">Community Showcase Booth Fees</span></u></b></p></span><p class="MsoNormal" style="line-height: normal\; margin: 0in 0in 0pt\; mso-layout-grid-align: none"><b style="mso-bidi-font-weight: normal"><u><span style="font-family: &rsquo\;Arial&rsquo\;\,&rsquo\;sans-serif&rsquo\;\; font-size: 12pt"><o:p></o:p></span></u></b></p><p class="MsoNormal" style="line-height: normal\; margin: 0in 0in 0pt\; mso-layout-grid-align: none"><span style="font-size: x-small"><span style="font-family: &rsquo\;Arial&rsquo\;\,&rsquo\;sans-serif&rsquo\;">Two types of booths are being offered to suit your exhibit needs. Each 8&rsquo\; x 8&rsquo\; booth includes a draped back and side walls\, one skirted table with two chairs and one-line business identification booth sign. Booths will be assigned on a first come-first-paid basis.</span></span><span style="font-family: &rsquo\;Arial&rsquo\;\,&rsquo\;sans-serif&rsquo\;\; font-size: 12pt"><o:p></o:p></span></p><p class="MsoListParagraphCxSpFirst" style="line-height: normal\; text-indent: -0.25in\; margin: 0in 0in 0pt 0.5in\; mso-layout-grid-align: none\; mso-add-space: auto\; mso-list: l0 level1 lfo1"><span style="font-size: x-small"><span style="font-family: Symbol\; mso-fareast-font-family: Symbol\; mso-bidi-font-family: Symbol"><span style="mso-list: Ignore">&middot\;<span style="font: 7pt &rsquo\;Times New Roman&rsquo\;">&nbsp\;&nbsp\;&nbsp\;&nbsp\;&nbsp\;&nbsp\;&nbsp\;&nbsp\; </span></span></span><span style="font-family: &rsquo\;Arial&rsquo\;\,&rsquo\;sans-serif&rsquo\;">8&rsquo\; x 8&rsquo\; regular booth $250 (non-member $500)</span></span><span style="font-family: &rsquo\;Arial&rsquo\;\,&rsquo\;sans-serif&rsquo\;\; font-size: 12pt"><o:p></o:p></span></p><p class="MsoListParagraphCxSpLast" style="line-height: normal\; text-indent: -0.25in\; margin: 0in 0in 0pt 0.5in\; mso-layout-grid-align: none\; mso-add-space: auto\; mso-list: l0 level1 lfo1"><span style="font-size: x-small"><span style="font-family: Symbol\; mso-fareast-font-family: Symbol\; mso-bidi-font-family: Symbol"><span style="mso-list: Ignore">&middot\;<span style="font: 7pt &rsquo\;Times New Roman&rsquo\;">&nbsp\;&nbsp\;&nbsp\;&nbsp\;&nbsp\;&nbsp\;&nbsp\;&nbsp\; </span></span></span><span style="font-family: &rsquo\;Arial&rsquo\;\,&rsquo\;sans-serif&rsquo\;">8&rsquo\; x 8&rsquo\; Signature booth $400 (Priority placement-high traffic areas) </span></span></p><p class="MsoListParagraphCxSpLast" style="line-height: normal\; text-indent: -0.25in\; margin: 0in 0in 0pt 0.5in\; mso-layout-grid-align: none\; mso-add-space: auto\; mso-list: l0 level1 lfo1"><span style="font-size: x-small"><span style="font-family: &rsquo\;Arial&rsquo\;\,&rsquo\;sans-serif&rsquo\;">&nbsp\;&nbsp\;&nbsp\;&nbsp\; &nbsp\;(non-members $700)</span></span><span style="font-family: &rsquo\;Arial&rsquo\;\,&rsquo\;sans-serif&rsquo\;\; font-size: 12pt"><o:p></o:p></span></p><p class="MsoNormal" style="text-align: center\; line-height: normal\; margin: 0in 0in 0pt\; mso-layout-grid-align: none"><span style="font-size: x-small"><b style="mso-bidi-font-weight: normal"><i style="mso-bidi-font-style: normal"><span style="font-family: &rsquo\;Arial&rsquo\;\,&rsquo\;sans-serif&rsquo\;">NO RESERVATIONS WILL BE MADE WITHOUT PAYMENT!</span></i></b></span><b style="mso-bidi-font-weight: normal"><i style="mso-bidi-font-style: normal"><span style="font-family: &rsquo\;Arial&rsquo\;\,&rsquo\;sans-serif&rsquo\;\; font-size: 12pt"><o:p></o:p></span></i></b></p><p class="MsoNormal" style="line-height: normal\; margin: 0in 0in 0pt\; mso-layout-grid-align: none">&nbsp\;</p><p class="MsoNormal" style="line-height: normal\; margin: 0in 0in 0pt\; mso-layout-grid-align: none"><u><span style="font-size: x-small"><b style="mso-bidi-font-weight: normal"><span style="font-family: &rsquo\;Arial&rsquo\;\,&rsquo\;sans-serif&rsquo\;">Booth Policies</span></b></span></u><b style="mso-bidi-font-weight: normal"><span style="font-family: &rsquo\;Arial&rsquo\;\,&rsquo\;sans-serif&rsquo\;\; font-size: 12pt"><o:p></o:p></span></b></p><p class="MsoNormal" style="line-height: normal\; margin: 0in 0in 0pt\; mso-layout-grid-align: none"><span style="font-size: x-small"><span style="font-family: &rsquo\;Arial&rsquo\;\,&rsquo\;sans-serif&rsquo\;">As an exhibitor\, your responsibilities will include setting up an attractive display no later than 10:00 a.m. the day of the expo. When you arrive at the unloading area\, unload your equipment\, move your vehicle\, then return to set up your booth. This simple rule should keep delays for everyone to a minimum.<span style="mso-spacerun: yes">&nbsp\; </span>Complete breakdown of your exhibit will be between 3:01pm and 4:00pm on Saturday. A $100 fee will be charged in the event of an early breakdown.<span style="mso-spacerun: yes">&nbsp\; </span>Exhibitors are responsible for all items in their booths during open exhibition hours. You must have a staff representative in your booth at all times during Expo hours. </span></span><span style="font-family: &rsquo\;Arial&rsquo\;\,&rsquo\;sans-serif&rsquo\;\; font-size: 12pt"><o:p></o:p></span></p><p class="MsoNormal" align="center" style="text-align: center\; line-height: normal\; margin: 0in 0in 0pt\; mso-layout-grid-align: none"><span style="font-size: x-small"><b style="mso-bidi-font-weight: normal"><i style="mso-bidi-font-style: normal"><span style="font-family: &rsquo\;Arial&rsquo\;\,&rsquo\;sans-serif&rsquo\;">No sharing of booths is allowed. There is a one business limit per booth.</span></i></b></span><b style="mso-bidi-font-weight: normal"><i style="mso-bidi-font-style: normal"><span style="font-family: &rsquo\;Arial&rsquo\;\,&rsquo\;sans-serif&rsquo\;\; font-size: 12pt\; mso-fareast-font-family: &rsquo\;Times New Roman&rsquo\;"><o:p></o:p></span></i></b></p><p class="MsoNormal" style="line-height: normal\; margin: 0in 0in 10pt\; mso-margin-top-alt: auto\; mso-margin-bottom-alt: auto"><span style="font-size: x-small"><span style="font-family: &rsquo\;Arial&rsquo\;\,&rsquo\;sans-serif&rsquo\;\; mso-fareast-font-family: &rsquo\;Times New Roman&rsquo\;">&nbsp\;</span></span><span style="font-family: &rsquo\;Arial&rsquo\;\,&rsquo\;sans-serif&rsquo\;\; font-size: 12pt\; mso-fareast-font-family: &rsquo\;Times New Roman&rsquo\;"><o:p></o:p></span></p><p class="MsoNormal" style="margin: 0in 0in 10pt"><span style="font-size: smaller"><span style="line-height: 115%\; font-family: &rsquo\;Arial&rsquo\;\,&rsquo\;sans-serif&rsquo\;"><o:p></o:p></span></span><span style="line-height: 115%\; font-family: &rsquo\;Arial&rsquo\;\,&rsquo\;sans-serif&rsquo\;\; font-size: 12pt"><o:p></o:p></span></p><p style="margin: 0in 0in 10pt"><span style="font-size: larger"><b style="mso-bidi-font-weight: normal"><u><span style="line-height: 115%\; font-family: &rsquo\;Arial&rsquo\;\,&rsquo\;sans-serif&rsquo\;">Restaurant Exhibitors:</span></u></b><b style="mso-bidi-font-weight: normal"><span style="line-height: 115%\; font-family: &rsquo\;Arial&rsquo\;\,&rsquo\;sans-serif&rsquo\;"> <br /></span></b><span style="line-height: 115%\; font-family: &rsquo\;Arial&rsquo\;\,&rsquo\;sans-serif&rsquo\;">Taste of Lewisville is sponsored by <em><strong>Raising Cane&rsquo\;s Chicken Fingers</strong></em>. <strong>There is no charge for Restaurant Booths.</strong>&nbsp\; Participants must be a member in good standing with the Lewisville Area Chamber of Commerce.&nbsp\; There&nbsp\;are only 15 booths available\, so hurry and reserve your spot.&nbsp\; This is a great opportunity to showcase menu items - bite sized!&nbsp\; The exhibitor is required to have samples available during the showcase times\, 10:00 a.m. to 3:00 p.m.&nbsp\; Each exhibitor must also comply with the Lewisville Health Department regulations\, which will be provided for you. </span></span></p><p class="MsoNormal" style="margin: 0in 0in 10pt">&nbsp\;</p></div>
LOCATION:Lewisville High School - West Main and Valley PkwyCafeteria and Commons Area
UID:e.437.1525
SEQUENCE:3
DTSTAMP:20260422T062919Z
URL:https://business.lewisvillechamber.org/events/details/community-showcase-2010-10-23-2010-1525
END:VEVENT

END:VCALENDAR
