BEGIN:VCALENDAR
VERSION:2.0
PRODID:-//ChamberMaster//Event Calendar 2.0//EN
METHOD:PUBLISH
X-PUBLISHED-TTL:P3D
REFRESH-INTERVAL:P3D
CALSCALE:GREGORIAN
BEGIN:VEVENT
DTSTART:20131109T160000Z
DTEND:20131109T210000Z
X-MICROSOFT-CDO-ALLDAYEVENT:FALSE
SUMMARY:Community Showcase
DESCRIPTION:6th Annual Community Showcase\n\n\n\nThe Community Showcase is a FREE\, family friendly event that introduces attendees to area businesses\, restaurants\, and medical professionals located in the greater Lewisville area. This event is not to be missed!
X-ALT-DESC;FMTTYPE=text/html:6th Annual Community Showcase<br />\n<br />\nThe Community Showcase is a <strong>FREE</strong>\, family friendly event that introduces attendees to area businesses\, restaurants\, and medical professionals located in the greater Lewisville area. This event is not to be missed!
LOCATION:Lewisville High School - Harmon Campus 1250 W Round Grove Rd Lewisville\, Texas
UID:e.437.2543
SEQUENCE:3
DTSTAMP:20260419T221901Z
URL:https://business.lewisvillechamber.org/events/details/community-showcase-11-09-2013-2543
END:VEVENT

END:VCALENDAR
