BEGIN:VCALENDAR
VERSION:2.0
PRODID:-//ChamberMaster//Event Calendar 2.0//EN
METHOD:PUBLISH
X-PUBLISHED-TTL:P3D
REFRESH-INTERVAL:P3D
CALSCALE:GREGORIAN
BEGIN:VEVENT
DTSTART:20121204T173000Z
DTEND:20121204T190000Z
X-MICROSOFT-CDO-ALLDAYEVENT:FALSE
SUMMARY:Christmas Luncheon
DESCRIPTION:Join us for our annual joint holiday luncheon with the Flower Mound Chamber!
X-ALT-DESC;FMTTYPE=text/html:<p style="text-align: center">\n	<span style="font-size: 16px"><span style="font-family: comic sans ms"><span style="color: #ff0000"><strong>Join us for our annual joint holiday luncheon with the Flower Mound Chamber!</strong></span></span></span></p>\n
LOCATION:Celebrations 2380 FM 407
UID:e.437.2134
SEQUENCE:3
DTSTAMP:20260420T153755Z
URL:https://business.lewisvillechamber.org/events/details/christmas-luncheon-12-04-2012-2134
END:VEVENT

END:VCALENDAR
