BEGIN:VCALENDAR
VERSION:2.0
PRODID:-//ChamberMaster//Event Calendar 2.0//EN
METHOD:PUBLISH
X-PUBLISHED-TTL:P3D
REFRESH-INTERVAL:P3D
CALSCALE:GREGORIAN
BEGIN:VEVENT
DTSTART:20101126T230000Z
DTEND:20101127T030000Z
X-MICROSOFT-CDO-ALLDAYEVENT:FALSE
SUMMARY:Christmas Fest
DESCRIPTION:Highland Village and Area Rotary Clubs present a traditional style Christmas market with\n\n-Festive food and drinks\n\n-Pictures with Santa\n\n-Prize Wheel\n\n-Face Painting\n\nAll Benefitting Habitat for Humanity\, The Salvation Army and CCA.
X-ALT-DESC;FMTTYPE=text/html:Highland Village and Area Rotary Clubs present a traditional style Christmas market with\n<br>-Festive food and drinks\n<br>-Pictures with Santa\n<br>-Prize Wheel\n<br>-Face Painting\n<br>All Benefitting Habitat for Humanity\, The Salvation Army and CCA.
LOCATION:Garden Ridge Farmer's Market 2999 N. Stemmons Fwy\, Lewisville\, TX 75077
UID:e.437.1602
SEQUENCE:3
DTSTAMP:20260424T165011Z
URL:https://business.lewisvillechamber.org/events/details/christmas-fest-11-26-2010-1602
END:VEVENT

END:VCALENDAR
