BEGIN:VCALENDAR
VERSION:2.0
PRODID:-//ChamberMaster//Event Calendar 2.0//EN
METHOD:PUBLISH
X-PUBLISHED-TTL:P3D
REFRESH-INTERVAL:P3D
CALSCALE:GREGORIAN
BEGIN:VEVENT
DTSTART;VALUE=DATE:20100906
DTEND;VALUE=DATE:20100907
TRANSP:TRANSPARENT
X-MICROSOFT-CDO-ALLDAYEVENT:TRUE
SUMMARY:CHAMBER OFFICE CLOSED
DESCRIPTION:The Chamber Office will be closed today in observance of Labor Day.  We wish you and yours a safe and happy Labor Day Holiday!
X-ALT-DESC;FMTTYPE=text/html:<div><span style="font-family: Arial"><span style="font-size: larger">The Chamber Office will be closed today in observance of Labor Day.&nbsp\; We wish you and yours a safe and happy Labor Day Holiday! </span></span></div>
LOCATION:
UID:e.437.1530
SEQUENCE:3
DTSTAMP:20260422T075237Z
URL:https://business.lewisvillechamber.org/events/details/chamber-office-closed-09-06-2010-1530
END:VEVENT

END:VCALENDAR
