BEGIN:VCALENDAR
VERSION:2.0
PRODID:-//ChamberMaster//Event Calendar 2.0//EN
METHOD:PUBLISH
X-PUBLISHED-TTL:P3D
REFRESH-INTERVAL:P3D
CALSCALE:GREGORIAN
BEGIN:VEVENT
DTSTART:20121213T230000Z
DTEND:20121214T010000Z
X-MICROSOFT-CDO-ALLDAYEVENT:FALSE
SUMMARY:CHAMBER NIGHT OUT
DESCRIPTION:CHAMBER NIGHT OUT - 2012        Meet us tonight at: \n\n	DATCU Credit Union\, 1001 S. Edmonds Ln.\n\n	Lewisville\n\n	for our December Chamber Night Out. \n\n	We will be there from 5pm-7pm! \n\n	\n\n	 ??? will be catering tonight's event! \n\n	Great food and drinks\, great door prizes and great networking!
X-ALT-DESC;FMTTYPE=text/html:<p>\n	<span style="font-size: small"><em><strong>CHAMBER NIGHT OUT - 2012&nbsp\;&nbsp\;&nbsp\;&nbsp\;&nbsp\;&nbsp\; </strong></em></span>&nbsp\;<span style="font-size: 10pt"><span style="font-family: ?arial?\,?sans-serif?">Meet us tonight at:&nbsp\;</span></span></p>\n<p style="text-align: center">\n	<strong><font size="2">DATCU Credit Union\, 1001 S. Edmonds Ln.</font></strong><br />\n	Lewisville<br />\n	<span style="font-size: 10pt"><span style="font-family: ?arial?\,?sans-serif?">for our&nbsp\;December </span></span><span style="font-size: 10pt"><span style="font-family: ?arial?\,?sans-serif?"><span style="font-family: ?arial?\,?sans-serif?">Chamber Night Out.</span></span> </span><br />\n	<span style="font-size: 10pt"><span style="font-family: ?arial?\,?sans-serif?">We will be there from 5pm-7pm!&nbsp\;</span></span><br />\n	<br />\n	&nbsp\;???<span style="font-size: 10pt"><span style="font-family: ?arial?\,?sans-serif?"><span style="font-family: ?arial?\,?sans-serif?"><strong> </strong>will be catering tonight&rsquo\;s event!&nbsp\;</span></span></span></p>\n<p>\n	<span style="font-size: 10pt"><span style="font-family: ?arial?\,?sans-serif?"><span id="status_text"><span id="profile_status" style="opacity: ">Great food and drinks\, great door prizes and great networking! </span></span></span></span><br />\n	&nbsp\;</p>\n
LOCATION:DATCU Credit Union 1001 S. Edmonds Ln. Lewisville
UID:e.437.2097
SEQUENCE:3
DTSTAMP:20260420T153737Z
URL:https://business.lewisvillechamber.org/events/details/chamber-night-out-12-13-2012-2097
END:VEVENT

END:VCALENDAR
