BEGIN:VCALENDAR
VERSION:2.0
PRODID:-//ChamberMaster//Event Calendar 2.0//EN
METHOD:PUBLISH
X-PUBLISHED-TTL:P3D
REFRESH-INTERVAL:P3D
CALSCALE:GREGORIAN
BEGIN:VEVENT
DTSTART:20121115T230000Z
DTEND:20121116T010000Z
X-MICROSOFT-CDO-ALLDAYEVENT:FALSE
SUMMARY:CHAMBER NIGHT OUT
DESCRIPTION:CHAMBER NIGHT OUT - 2012        Meet us tonight at: \n\n	Colonial Savings\, 217 S. Stemmons Fwy.\, Ste. 100\n\n	Lewisville\n\n	for our November Chamber Night Out. \n\n	We will be there from 5pm-7pm! \n\n	\n\n	 Sidecar Catering will be catering tonight's event! \n\n	Great food and drinks\, great door prizes and great networking!
X-ALT-DESC;FMTTYPE=text/html:<p>\n	<span style="font-size: small"><em><strong>CHAMBER NIGHT OUT - 2012&nbsp\;&nbsp\;&nbsp\;&nbsp\;&nbsp\;&nbsp\; </strong></em></span>&nbsp\;<span style="font-size: 10pt"><span style="font-family: ?arial?\,?sans-serif?">Meet us tonight at:&nbsp\;</span></span></p>\n<p style="text-align: center">\n	<span style="font-size: 10pt"><span style="font-family: ?arial?\,?sans-serif?"><strong><span style="font-family: ?arial?\,?sans-serif?">Colonial Savings\, 217 S. Stemmons Fwy.\, Ste. 100</span></strong></span></span><br />\n	Lewisville<br />\n	<span style="font-size: 10pt"><span style="font-family: ?arial?\,?sans-serif?">for our&nbsp\;November </span></span><span style="font-size: 10pt"><span style="font-family: ?arial?\,?sans-serif?"><span style="font-family: ?arial?\,?sans-serif?">Chamber Night Out.</span></span> </span><br />\n	<span style="font-size: 10pt"><span style="font-family: ?arial?\,?sans-serif?">We will be there from 5pm-7pm!&nbsp\;</span></span><br />\n	<br />\n	&nbsp\;<span style="font-size: 10pt"><span style="font-family: ?arial?\,?sans-serif?"><span style="font-family: ?arial?\,?sans-serif?"><strong>Sidecar Catering </strong>will be catering tonight&rsquo\;s event!&nbsp\;</span></span></span><br />\n	<span style="font-size: 10pt\;">Great food and drinks\, great door prizes and great networking!&nbsp\;</span></p>\n<p>\n	&nbsp\; &nbsp\; &nbsp\; &nbsp\;&nbsp\;<br />\n	&nbsp\;</p>\n
LOCATION:Colonial Savings 217 S. Stemmons Fwy.\, Ste. 100 Lewisville
UID:e.437.2096
SEQUENCE:3
DTSTAMP:20260420T181440Z
URL:https://business.lewisvillechamber.org/events/details/chamber-night-out-11-15-2012-2096
END:VEVENT

END:VCALENDAR
