BEGIN:VCALENDAR
VERSION:2.0
PRODID:-//ChamberMaster//Event Calendar 2.0//EN
METHOD:PUBLISH
X-PUBLISHED-TTL:P3D
REFRESH-INTERVAL:P3D
CALSCALE:GREGORIAN
BEGIN:VEVENT
DTSTART:20121018T220000Z
DTEND:20121019T000000Z
X-MICROSOFT-CDO-ALLDAYEVENT:FALSE
SUMMARY:CHAMBER NIGHT OUT
DESCRIPTION:CHAMBER NIGHT OUT - 2012        Meet us tonight at: \n\n	Tierney's Cafe &Tavern\, 208 E. Main St.\n\n	Lewisville\n\n	for our October Chamber Night Out. \n\n	We will be there from 5pm-7pm! \n\n	\n\n	 Tierney's will be catering tonight's event! \n\n	Great food and drinks\, great door prizes and great networking!
X-ALT-DESC;FMTTYPE=text/html:<p>\n	<span style="font-size: small"><em><strong>CHAMBER NIGHT OUT - 2012&nbsp\;&nbsp\;&nbsp\;&nbsp\;&nbsp\;&nbsp\; </strong></em></span>&nbsp\;<span style="font-size: 10pt"><span style="font-family: ?arial?\,?sans-serif?">Meet us tonight at:&nbsp\;</span></span></p>\n<p style="text-align: center">\n	<span style="font-size: 10pt"><span style="font-family: ?arial?\,?sans-serif?"><strong><span style="font-family: ?arial?\,?sans-serif?">Tierney&#39\;s Cafe &amp\;Tavern\, 208 E. Main St.</span></strong></span></span><br />\n	Lewisville<br />\n	<span style="font-size: 10pt"><span style="font-family: ?arial?\,?sans-serif?">for our&nbsp\;October </span></span><span style="font-size: 10pt"><span style="font-family: ?arial?\,?sans-serif?"><span style="font-family: ?arial?\,?sans-serif?">Chamber Night Out.</span></span> </span><br />\n	<span style="font-size: 10pt"><span style="font-family: ?arial?\,?sans-serif?">We will be there from 5pm-7pm!&nbsp\;</span></span><br />\n	<br />\n	&nbsp\;<span style="font-size: 10pt"><span style="font-family: ?arial?\,?sans-serif?"><span style="font-family: ?arial?\,?sans-serif?"><strong>Tierney&#39\;s </strong>will be catering tonight&rsquo\;s event!&nbsp\;</span></span></span></p>\n<p>\n	<span style="font-size: 10pt"><span style="font-family: ?arial?\,?sans-serif?"><span id="status_text"><span id="profile_status" style="opacity: ">Great food and drinks\, great door prizes and great networking! </span></span></span></span><br />\n	&nbsp\;</p>\n
LOCATION:Tierney's Cafe & Tavern 208 E. Main St. Lewisville
UID:e.437.2095
SEQUENCE:3
DTSTAMP:20260420T181440Z
URL:https://business.lewisvillechamber.org/events/details/chamber-night-out-10-18-2012-2095
END:VEVENT

END:VCALENDAR
