BEGIN:VCALENDAR
VERSION:2.0
PRODID:-//ChamberMaster//Event Calendar 2.0//EN
METHOD:PUBLISH
X-PUBLISHED-TTL:P3D
REFRESH-INTERVAL:P3D
CALSCALE:GREGORIAN
BEGIN:VEVENT
DTSTART:20120809T220000Z
DTEND:20120810T000000Z
X-MICROSOFT-CDO-ALLDAYEVENT:FALSE
SUMMARY:CHAMBER NIGHT OUT
DESCRIPTION:CHAMBER NIGHT OUT - 2012        Meet us tonight at: \n\n	First Choice Power\, 1081 W. Main St.\, Ste. 100\n\n	Lewisville\n\n	for our August Chamber Night Out. \n\n	We will be there from 5pm-7pm! \n\n	\n\n	 Raising Cane's Chicken Fingers will be catering tonight's event! \n\n	Great food and drinks\, great door prizes and great networking! \n\n	(Mixer Moola continues!)
X-ALT-DESC;FMTTYPE=text/html:<p>\n	<span style="font-size: small"><em><strong>CHAMBER NIGHT OUT - 2012&nbsp\;&nbsp\;&nbsp\;&nbsp\;&nbsp\;&nbsp\; </strong></em></span>&nbsp\;<span style="font-size: 10pt"><span style="font-family: ?arial?\,?sans-serif?">Meet us tonight at:&nbsp\;</span></span></p>\n<p style="text-align: center">\n	<span style="font-size: 10pt"><span style="font-family: ?arial?\,?sans-serif?"><strong><span style="font-family: ?arial?\,?sans-serif?">First Choice Power\, 1081 W. Main St.\, Ste. 100</span></strong></span></span><br />\n	Lewisville<br />\n	<span style="font-size: 10pt"><span style="font-family: ?arial?\,?sans-serif?">for our&nbsp\;August </span></span><span style="font-size: 10pt"><span style="font-family: ?arial?\,?sans-serif?"><span style="font-family: ?arial?\,?sans-serif?">Chamber Night Out.</span></span> </span><br />\n	<span style="font-size: 10pt"><span style="font-family: ?arial?\,?sans-serif?">We will be there from 5pm-7pm!&nbsp\;</span></span><br />\n	<br />\n	&nbsp\;<span style="font-size: 10pt"><span style="font-family: ?arial?\,?sans-serif?"><span style="font-family: ?arial?\,?sans-serif?"><strong>Raising Cane&#39\;s Chicken Fingers </strong>will be catering tonight&rsquo\;s event!&nbsp\;</span></span></span></p>\n<p>\n	<span style="font-size: 10pt"><span style="font-family: ?arial?\,?sans-serif?"><span id="status_text"><span id="profile_status" style="opacity: ">Great food and drinks\, great door prizes and great networking! </span></span></span></span><br />\n	<span style="font-size: 10pt"><span style="font-family: ?arial?\,?sans-serif?"><span id="status_text"><strong><span id="status_text"><span style="font-family: ?arial?\,?sans-serif?">(Mixer Moola continues!)</span></span></strong></span></span></span></p>\n
LOCATION:First Choice Power 1081 W. Main St. Lewisville
UID:e.437.2093
SEQUENCE:3
DTSTAMP:20260420T231534Z
URL:https://business.lewisvillechamber.org/events/details/chamber-night-out-08-09-2012-2093
END:VEVENT

END:VCALENDAR
