BEGIN:VCALENDAR
VERSION:2.0
PRODID:-//ChamberMaster//Event Calendar 2.0//EN
METHOD:PUBLISH
X-PUBLISHED-TTL:P3D
REFRESH-INTERVAL:P3D
CALSCALE:GREGORIAN
BEGIN:VEVENT
DTSTART:20221102T143000Z
DTEND:20221102T153000Z
X-MICROSOFT-CDO-ALLDAYEVENT:FALSE
SUMMARY:Chamber 101
DESCRIPTION:Whether you are a new member or a long-time member\, the Chamber Staff invites you to attend Chamber 101. Attendees will have an opportunity to network with other members\, meet the Chamber Staff\, and gain a better understanding of the membership benefits and chamber programs.\n\n\n\nThere is no fee to attend this informative session\, however\, you must RSVP. Seating is limited. Register today.\n\n\n\nCan't attend this month? Please visit the event calendar for more details.
X-ALT-DESC;FMTTYPE=text/html:<div style="text-align: center\;">&nbsp\;</div>\n\n<div style="text-align: center\;"><span style="line-height: 20.8px\;">Whether you are a new member or a long-time member\, the Chamber Staff invites you to attend Chamber 101. Attendees will have an opportunity to network with other members\, meet the Chamber Staff\, and gain a better understanding of the membership benefits and chamber programs.</span><br style="line-height: 20.8px\;" />\n<br style="line-height: 20.8px\;" />\n<span style="line-height: 20.8px\;">There is no fee to attend this informative session\, however\, you must RSVP. Seating is limited. Register today.</span><br style="line-height: 20.8px\;" />\n<br style="line-height: 20.8px\;" />\n<span style="line-height: 20.8px\;">Can&#39\;t attend this month? Please visit the event calendar for more details.</span></div>\n
LOCATION:Lewisville Area Chamber of Commerce 551 N Valley Parkway Lewisville\, TX
UID:e.437.28586
SEQUENCE:3
DTSTAMP:20260424T053546Z
URL:https://business.lewisvillechamber.org/events/details/chamber-101-10-05-2022-28586
END:VEVENT

END:VCALENDAR
