BEGIN:VCALENDAR
VERSION:2.0
PRODID:-//ChamberMaster//Event Calendar 2.0//EN
METHOD:PUBLISH
X-PUBLISHED-TTL:P3D
REFRESH-INTERVAL:P3D
CALSCALE:GREGORIAN
BEGIN:VEVENT
DTSTART:20240806T130000Z
DTEND:20240806T140000Z
X-MICROSOFT-CDO-ALLDAYEVENT:FALSE
SUMMARY:Ambassador Meeting
DESCRIPTION:Monthly Ambassador Meeting\n\n\n\n **Must be an Ambassador to attend this meeting. If you are interested in becoming a chamber ambassador please reach out to us for more information: info@lewisvillechamber.org**
X-ALT-DESC;FMTTYPE=text/html:<strong>Monthly Ambassador Meeting</strong><br />\n<br />\n&#8203\;**Must be an Ambassador to attend this meeting. If you are interested in becoming a chamber ambassador please reach out to us for more information: info@lewisvillechamber.org**
LOCATION:Korner Cafe 921 W Main St\, Lewisville\, TX 75067
UID:e.437.29229
SEQUENCE:3
DTSTAMP:20260420T170813Z
URL:https://business.lewisvillechamber.org/events/details/ambassador-meeting-08-06-2024-29229
END:VEVENT

END:VCALENDAR
